View In:
ArcGIS JavaScript
ArcGIS Online Map Viewer
ArcGIS Earth
ArcGIS Pro
Service Description: Display and query layers for the southwest WI bedrock mapping verification/field checking, to be made into a cached service
Map Name: Southwest WI Bedrock Geology
Legend
All Layers and Tables
Dynamic Legend
Dynamic All Layers
Layers:
Description: Display and query layers for the southwest WI bedrock mapping verification/field checking, to be made into a cached service
Copyright Text: WGNHS
Spatial Reference:
102100
(3857)
LatestVCSWkid(0)
Single Fused Map Cache: true
Tile Info:
- Height: 256.0
- Width: 256.0
- DPI: 96.0
-
Levels of Detail: 24
-
Level ID: 1
[ Start Tile, End Tile ]
- Resolution: 78271.5169639999
- Scale: 2.95828763795777E8
-
Level ID: 2
[ Start Tile, End Tile ]
- Resolution: 39135.7584820001
- Scale: 1.47914381897889E8
-
Level ID: 3
[ Start Tile, End Tile ]
- Resolution: 19567.8792409999
- Scale: 7.3957190948944E7
-
Level ID: 4
[ Start Tile, End Tile ]
- Resolution: 9783.93962049996
- Scale: 3.6978595474472E7
-
Level ID: 5
[ Start Tile, End Tile ]
- Resolution: 4891.96981024998
- Scale: 1.8489297737236E7
- Format: Mixed
- Compression Quality: 75.0
- Origin: X: -2.0037508342787E7
Y: 2.0037508342787E7
- Spatial Reference: 102100
(3857)
LatestVCSWkid(0)
Storage Info:
- Storage Format: esriMapCacheStorageModeCompactV2
- Packet Size: 128
Initial Extent:
XMin: -1.0092388543780006E7
YMin: 5313677.915104165
XMax: -1.0043186045523684E7
YMax: 5353321.348117395
Spatial Reference: 102100
(0)
LatestVCSWkid(0)
Full Extent:
XMin: -1.032929536975133E7
YMin: 5231937.427635123
XMax: -9834523.546874352
YMax: 5534885.95019884
Spatial Reference: 102100
(0)
LatestVCSWkid(0)
Units: esriMeters
Supported Image Format Types: PNG32,PNG24,PNG,JPG,DIB,TIFF,EMF,PS,PDF,GIF,SVG,SVGZ,BMP
Document Info:
Title: Southwest WI Bedrock Geology
Author:
Comments: Display and query layers for the southwest WI bedrock mapping verification/field checking, to be made into a cached service
Subject: Bedrock geology of southwest Wisconsin, for field map use
Category:
Keywords: geology,bedrock,Wisconsin,driftless area
AntialiasingMode: Fast
TextAntialiasingMode: Force
Supports Dynamic Layers: true
MaxRecordCount: 2000
MaxImageHeight: 4096
MaxImageWidth: 4096
Supported Query Formats: JSON, geoJSON, PBF
Supports Query Data Elements: true
Min Scale: 144447.638572
Max Scale: 9027.977411
Min LOD: 12
Max LOD: 16
Supports Datum Transformation: true
Child Resources:
Info
Dynamic Layer
Supported Operations:
Export Map
Identify
QueryLegends
QueryDomains
Find
EstimateExportTilesSize
ExportTiles
Return Updates