View In:
ArcGIS JavaScript
ArcGIS Online Map Viewer
ArcGIS Earth
ArcGIS Pro
Service Description: Detail area Base map for generating map tiles for southwest WI bedrock mapping verification/field checking, focusing on the Extent limited to the USGS 24K Lansing, Ferryville, Harpers Ferry, and Eastman quadrangles and vicinity.
Map Name: Southwest WI Bedrock Crawford Co Detail 2023
Legend
All Layers and Tables
Dynamic Legend
Dynamic All Layers
Layers:
Description: Detail area Base map for generating map tiles for southwest WI bedrock mapping verification/field checking, focusing on the Extent limited to the USGS 24K Lansing, Ferryville, Harpers Ferry, and Eastman quadrangles and vicinity.
Copyright Text: WGNHS
Spatial Reference:
102100
(3857)
LatestVCSWkid(0)
Single Fused Map Cache: true
Tile Info:
- Height: 256.0
- Width: 256.0
- DPI: 96.0
-
Levels of Detail: 24
-
Level ID: 1
[ Start Tile, End Tile ]
- Resolution: 78271.5169639999
- Scale: 2.95828763795777E8
-
Level ID: 2
[ Start Tile, End Tile ]
- Resolution: 39135.7584820001
- Scale: 1.47914381897889E8
-
Level ID: 3
[ Start Tile, End Tile ]
- Resolution: 19567.8792409999
- Scale: 7.3957190948944E7
-
Level ID: 4
[ Start Tile, End Tile ]
- Resolution: 9783.93962049996
- Scale: 3.6978595474472E7
-
Level ID: 5
[ Start Tile, End Tile ]
- Resolution: 4891.96981024998
- Scale: 1.8489297737236E7
- Format: Mixed
- Compression Quality: 75.0
- Origin: X: -2.0037508342787E7
Y: 2.0037508342787E7
- Spatial Reference: 102100
(3857)
LatestVCSWkid(0)
Storage Info:
- Storage Format: esriMapCacheStorageModeCompactV2
- Packet Size: 128
Initial Extent:
XMin: -1.0177367564259486E7
YMin: 5330000.0
XMax: -1.0102632435740514E7
YMax: 5369700.0
Spatial Reference: 102100
(0)
LatestVCSWkid(0)
Full Extent:
XMin: -1.0152E7
YMin: 5330000.0
XMax: -1.0128E7
YMax: 5369700.0
Spatial Reference: 102100
(0)
LatestVCSWkid(0)
Units: esriMeters
Supported Image Format Types: PNG32,PNG24,PNG,JPG,DIB,TIFF,EMF,PS,PDF,GIF,SVG,SVGZ,BMP
Document Info:
Title: Southwest WI Bedrock Crawford Co Detail 2023
Author:
Comments: Detail area Base map for generating map tiles for southwest WI bedrock mapping verification/field checking, focusing on the Extent limited to the USGS 24K Lansing, Ferryville, Harpers Ferry, and Eastman quadrangles and vicinity.
Subject: Bedrock geology of west-central Wisconsin, for field map use
Category:
Keywords: geology,bedrock,Wisconsin,driftless area
AntialiasingMode: Fast
TextAntialiasingMode: Force
Supports Dynamic Layers: true
MaxRecordCount: 2000
MaxImageHeight: 4096
MaxImageWidth: 4096
Supported Query Formats: JSON, geoJSON, PBF
Supports Query Data Elements: true
Min Scale: 4513.988705
Max Scale: 1128.497176
Min LOD: 17
Max LOD: 19
Supports Datum Transformation: true
Child Resources:
Info
Dynamic Layer
Supported Operations:
Export Map
Identify
QueryLegends
QueryDomains
Find
EstimateExportTilesSize
ExportTiles
Return Updates